BEGIN:VCALENDAR
VERSION:2.0
PRODID:-//Un désir de partager  - ECPv5.0.3.1//NONSGML v1.0//EN
CALSCALE:GREGORIAN
METHOD:PUBLISH
X-WR-CALNAME:Un désir de partager 
X-ORIGINAL-URL:https://delunalautre.com
X-WR-CALDESC:Évènements pour Un désir de partager 
BEGIN:VTIMEZONE
TZID:Europe/Paris
BEGIN:DAYLIGHT
TZOFFSETFROM:+0100
TZOFFSETTO:+0200
TZNAME:CEST
DTSTART:20130331T010000
END:DAYLIGHT
BEGIN:STANDARD
TZOFFSETFROM:+0200
TZOFFSETTO:+0100
TZNAME:CET
DTSTART:20131027T010000
END:STANDARD
END:VTIMEZONE
BEGIN:VEVENT
DTSTART;TZID=Europe/Paris:20131128T070000
DTEND;TZID=Europe/Paris:20131128T200000
DTSTAMP:20260419T134345
CREATED:20131210T112056Z
LAST-MODIFIED:20131210T113944Z
UID:818-1385622000-1385668800@delunalautre.com
SUMMARY:Les épines de l'amour à Frais Vallon
DESCRIPTION:
URL:https://delunalautre.com/event/les-epines-de-lamour-a-frais-vallon/
LOCATION:Centre Culturel Frais Vallon\, ex cité commerciale \, Marseille\, 13014\, France
CATEGORIES:Agenda Spectacles
END:VEVENT
END:VCALENDAR