BEGIN:VCALENDAR
VERSION:2.0
PRODID:-//Un désir de partager  - ECPv5.0.3.1//NONSGML v1.0//EN
CALSCALE:GREGORIAN
METHOD:PUBLISH
X-WR-CALNAME:Un désir de partager 
X-ORIGINAL-URL:https://delunalautre.com
X-WR-CALDESC:Évènements pour Un désir de partager 
BEGIN:VTIMEZONE
TZID:Europe/Paris
BEGIN:DAYLIGHT
TZOFFSETFROM:+0100
TZOFFSETTO:+0200
TZNAME:CEST
DTSTART:20130331T010000
END:DAYLIGHT
BEGIN:STANDARD
TZOFFSETFROM:+0200
TZOFFSETTO:+0100
TZNAME:CET
DTSTART:20131027T010000
END:STANDARD
END:VTIMEZONE
BEGIN:VEVENT
DTSTART;VALUE=DATE:20130429
DTEND;VALUE=DATE:20130505
DTSTAMP:20260424T145617
CREATED:20130315T095730Z
LAST-MODIFIED:20130315T095925Z
UID:533-1367193600-1367711999@delunalautre.com
SUMMARY:Stage Danse Voltige à Nîmes
DESCRIPTION:
URL:https://delunalautre.com/event/stage-danse-voltige-a-nimes/
LOCATION:Turbul Ecole de Cirque Nîmes\, Mas guérin - chemin des canaux\, Nîmes\, 30900
CATEGORIES:Agenda Stages Artistiques
ORGANIZER;CN="Association%20Appel%20d%27air":MAILTO:appeldair@gmail.com
END:VEVENT
END:VCALENDAR